BEGIN:VCALENDAR
VERSION:2.0
PRODID:-//ChamberMaster//Event Calendar 2.0//EN
METHOD:PUBLISH
X-PUBLISHED-TTL:P1H
REFRESH-INTERVAL:P1H
CALSCALE:GREGORIAN
BEGIN:VTIMEZONE
TZID:America/Chicago
BEGIN:DAYLIGHT
RRULE:FREQ=YEARLY;BYMONTH=3;BYDAY=2SU
DTSTART:20070101T000000
TZOFFSETFROM:-0600
TZOFFSETTO:-0500
TZNAME:Central Daylight Time
END:DAYLIGHT
BEGIN:STANDARD
RRULE:FREQ=YEARLY;BYMONTH=11;BYDAY=1SU
DTSTART:20070101T000000
TZOFFSETFROM:-0500
TZOFFSETTO:-0600
TZNAME:Central Standard Time
END:STANDARD
END:VTIMEZONE
BEGIN:VEVENT
DTSTART;VALUE=DATE:20261112
DTEND;VALUE=DATE:20261114
TRANSP:TRANSPARENT
X-MICROSOFT-CDO-ALLDAYEVENT:TRUE
SUMMARY:Coalition of Greater Minnesota Cities 2026 Fall Conference
DESCRIPTION:Save the date for the annual Coalition of Greater Minnesota Cities Fall Conference!This event is organized and administered by the Coalition of Greater Minnesota Cities. Please visit the CGMC website for more information and registration.
X-ALT-DESC;FMTTYPE=text/html:<!DOCTYPE html><html><head><title></title></head><body aria-disabled="false"><p>Save the date for the annual Coalition of Greater Minnesota Cities Fall Conference!</p><p>This event is organized and administered by the Coalition of Greater Minnesota Cities. <a fr-original-style="" href="https://members.greatermncities.org/events/Details/save-the-date-cgmc-2026-fall-conference-1670146?sourceTypeId=Website" style="user-select: auto\;">Please visit the CGMC website for more information and registration.</a></p></body></html>
LOCATION:500 Division Street Waite Park\, MN 56387
UID:e.1587.1445217
SEQUENCE:3
DTSTAMP:20260421T164442Z
URL:https://members.gmnp.org/eventcalendar/Details/coalition-of-greater-minnesota-cities-2026-fall-conference-1711723?sourceTypeId=Hub
END:VEVENT
END:VCALENDAR
