BEGIN:VCALENDAR
VERSION:2.0
PRODID:-//ChamberMaster//Event Calendar 2.0//EN
METHOD:PUBLISH
X-PUBLISHED-TTL:P1H
REFRESH-INTERVAL:P1H
CALSCALE:GREGORIAN
BEGIN:VTIMEZONE
TZID:America/Chicago
BEGIN:DAYLIGHT
RRULE:FREQ=YEARLY;BYMONTH=3;BYDAY=2SU
DTSTART:20070101T000000
TZOFFSETFROM:-0600
TZOFFSETTO:-0500
TZNAME:Central Daylight Time
END:DAYLIGHT
BEGIN:STANDARD
RRULE:FREQ=YEARLY;BYMONTH=11;BYDAY=1SU
DTSTART:20070101T000000
TZOFFSETFROM:-0500
TZOFFSETTO:-0600
TZNAME:Central Standard Time
END:STANDARD
END:VTIMEZONE
BEGIN:VEVENT
DTSTART;VALUE=DATE:20260722
DTEND;VALUE=DATE:20260725
TRANSP:TRANSPARENT
X-MICROSOFT-CDO-ALLDAYEVENT:TRUE
SUMMARY:Coalition of Greater Minnesota Cities 2026 Summer Conference
DESCRIPTION:This event is organized and administered by the Coalition of Greater Minnesota Cities. Please visit the CGMC website for more information and registration.GMNP members are invited to join the Coalition of Greater Minnesota Cities for their annual Summer Conference in New Ulm from July 22 to 24. The three-day Summer Conference features speakers\, presentations\, and discussions focused on issues that matter to Greater Minnesota. This year\, the CGMC will recap the outcome of the 2026 legislative session and the impact on Greater Minnesota. Attendees will also have plenty of opportunities to socialize and network with other city leaders from throughout the state.
X-ALT-DESC;FMTTYPE=text/html:<!DOCTYPE html><html><head><title></title></head><body aria-disabled="false"><p>This event is organized and administered by the Coalition of Greater Minnesota Cities. <a fr-original-style="" href="https://members.greatermncities.org/events/Details/cgmc-2026-summer-conference-1474906?sourceTypeId=Hub" rel="noopener noreferrer" style="user-select: auto\;" target="_blank">Please visit the CGMC website for more information and registration</a>.</p><p>GMNP members are invited to join the Coalition of Greater Minnesota Cities for their annual Summer Conference in New Ulm from July 22 to 24. The three-day Summer Conference features speakers\, presentations\, and discussions focused on issues that matter to Greater Minnesota. This year\, the CGMC will recap the outcome of the 2026 legislative session and the impact on Greater Minnesota. Attendees will also have plenty of opportunities to socialize and network with other city leaders from throughout the state.</p></body></html>
LOCATION:2101 S Broadway Street New Ulm\, MN 56073
UID:e.1587.1444864
SEQUENCE:3
DTSTAMP:20260421T164627Z
URL:https://members.gmnp.org/eventcalendar/Details/coalition-of-greater-minnesota-cities-2026-summer-conference-1711282?sourceTypeId=Hub
END:VEVENT
END:VCALENDAR
